BEGIN:VCALENDAR
VERSION:2.0
PRODID:-//Zuzana Dumková - ECPv6.15.20//NONSGML v1.0//EN
CALSCALE:GREGORIAN
METHOD:PUBLISH
X-ORIGINAL-URL:https://www.zuzanadumkova.cz
X-WR-CALDESC:Akce na Zuzana Dumková
REFRESH-INTERVAL;VALUE=DURATION:PT1H
X-Robots-Tag:noindex
X-PUBLISHED-TTL:PT1H
BEGIN:VTIMEZONE
TZID:Europe/Prague
BEGIN:DAYLIGHT
TZOFFSETFROM:+0100
TZOFFSETTO:+0200
TZNAME:CEST
DTSTART:20130331T010000
END:DAYLIGHT
BEGIN:STANDARD
TZOFFSETFROM:+0200
TZOFFSETTO:+0100
TZNAME:CET
DTSTART:20131027T010000
END:STANDARD
BEGIN:DAYLIGHT
TZOFFSETFROM:+0100
TZOFFSETTO:+0200
TZNAME:CEST
DTSTART:20140330T010000
END:DAYLIGHT
BEGIN:STANDARD
TZOFFSETFROM:+0200
TZOFFSETTO:+0100
TZNAME:CET
DTSTART:20141026T010000
END:STANDARD
BEGIN:DAYLIGHT
TZOFFSETFROM:+0100
TZOFFSETTO:+0200
TZNAME:CEST
DTSTART:20150329T010000
END:DAYLIGHT
BEGIN:STANDARD
TZOFFSETFROM:+0200
TZOFFSETTO:+0100
TZNAME:CET
DTSTART:20151025T010000
END:STANDARD
BEGIN:DAYLIGHT
TZOFFSETFROM:+0100
TZOFFSETTO:+0200
TZNAME:CEST
DTSTART:20160327T010000
END:DAYLIGHT
BEGIN:STANDARD
TZOFFSETFROM:+0200
TZOFFSETTO:+0100
TZNAME:CET
DTSTART:20161030T010000
END:STANDARD
BEGIN:DAYLIGHT
TZOFFSETFROM:+0100
TZOFFSETTO:+0200
TZNAME:CEST
DTSTART:20170326T010000
END:DAYLIGHT
BEGIN:STANDARD
TZOFFSETFROM:+0200
TZOFFSETTO:+0100
TZNAME:CET
DTSTART:20171029T010000
END:STANDARD
BEGIN:DAYLIGHT
TZOFFSETFROM:+0100
TZOFFSETTO:+0200
TZNAME:CEST
DTSTART:20180325T010000
END:DAYLIGHT
BEGIN:STANDARD
TZOFFSETFROM:+0200
TZOFFSETTO:+0100
TZNAME:CET
DTSTART:20181028T010000
END:STANDARD
BEGIN:DAYLIGHT
TZOFFSETFROM:+0100
TZOFFSETTO:+0200
TZNAME:CEST
DTSTART:20190331T010000
END:DAYLIGHT
BEGIN:STANDARD
TZOFFSETFROM:+0200
TZOFFSETTO:+0100
TZNAME:CET
DTSTART:20191027T010000
END:STANDARD
BEGIN:DAYLIGHT
TZOFFSETFROM:+0100
TZOFFSETTO:+0200
TZNAME:CEST
DTSTART:20200329T010000
END:DAYLIGHT
BEGIN:STANDARD
TZOFFSETFROM:+0200
TZOFFSETTO:+0100
TZNAME:CET
DTSTART:20201025T010000
END:STANDARD
BEGIN:DAYLIGHT
TZOFFSETFROM:+0100
TZOFFSETTO:+0200
TZNAME:CEST
DTSTART:20210328T010000
END:DAYLIGHT
BEGIN:STANDARD
TZOFFSETFROM:+0200
TZOFFSETTO:+0100
TZNAME:CET
DTSTART:20211031T010000
END:STANDARD
BEGIN:DAYLIGHT
TZOFFSETFROM:+0100
TZOFFSETTO:+0200
TZNAME:CEST
DTSTART:20220327T010000
END:DAYLIGHT
BEGIN:STANDARD
TZOFFSETFROM:+0200
TZOFFSETTO:+0100
TZNAME:CET
DTSTART:20221030T010000
END:STANDARD
BEGIN:DAYLIGHT
TZOFFSETFROM:+0100
TZOFFSETTO:+0200
TZNAME:CEST
DTSTART:20230326T010000
END:DAYLIGHT
BEGIN:STANDARD
TZOFFSETFROM:+0200
TZOFFSETTO:+0100
TZNAME:CET
DTSTART:20231029T010000
END:STANDARD
BEGIN:DAYLIGHT
TZOFFSETFROM:+0100
TZOFFSETTO:+0200
TZNAME:CEST
DTSTART:20240331T010000
END:DAYLIGHT
BEGIN:STANDARD
TZOFFSETFROM:+0200
TZOFFSETTO:+0100
TZNAME:CET
DTSTART:20241027T010000
END:STANDARD
BEGIN:DAYLIGHT
TZOFFSETFROM:+0100
TZOFFSETTO:+0200
TZNAME:CEST
DTSTART:20250330T010000
END:DAYLIGHT
BEGIN:STANDARD
TZOFFSETFROM:+0200
TZOFFSETTO:+0100
TZNAME:CET
DTSTART:20251026T010000
END:STANDARD
BEGIN:DAYLIGHT
TZOFFSETFROM:+0100
TZOFFSETTO:+0200
TZNAME:CEST
DTSTART:20260329T010000
END:DAYLIGHT
BEGIN:STANDARD
TZOFFSETFROM:+0200
TZOFFSETTO:+0100
TZNAME:CET
DTSTART:20261025T010000
END:STANDARD
BEGIN:DAYLIGHT
TZOFFSETFROM:+0100
TZOFFSETTO:+0200
TZNAME:CEST
DTSTART:20270328T010000
END:DAYLIGHT
BEGIN:STANDARD
TZOFFSETFROM:+0200
TZOFFSETTO:+0100
TZNAME:CET
DTSTART:20271031T010000
END:STANDARD
END:VTIMEZONE
BEGIN:VEVENT
DTSTART;TZID=Europe/Prague:20260320T180000
DTEND;TZID=Europe/Prague:20260320T200000
DTSTAMP:20260420T150519
CREATED:20260220T124303Z
LAST-MODIFIED:20260220T124452Z
UID:2165-1774029600-1774036800@www.zuzanadumkova.cz
SUMMARY:Vernisáž Motivy a souvislosti
DESCRIPTION:Alena Laufrová – MOTIVY A SOUVISLOSTI \nVernisáž obrazů s komponovaným pořadem z veršů autorky a písní Zuzany Dumkové.
URL:https://www.zuzanadumkova.cz/udalosti/vernisaz-motivy-a-souvislosti/
LOCATION:Městský palác Templ\, Krajířova 102\, Mladá Boleslav\, Středočeský kraj\, 29301\, Czech Republic
CATEGORIES:hostování,poezie,vernisáž
ATTACH;FMTTYPE=image/jpeg:https://www.zuzanadumkova.cz/wp-content/uploads/2026/02/PlakatBoleslav-scaled.jpg
END:VEVENT
BEGIN:VEVENT
DTSTART;TZID=Europe/Prague:20260207T190000
DTEND;TZID=Europe/Prague:20260207T220000
DTSTAMP:20260420T150519
CREATED:20250901T144036Z
LAST-MODIFIED:20250910T133759Z
UID:2117-1770490800-1770501600@www.zuzanadumkova.cz
SUMMARY:DIVADLO KOLOWRAT- Hudební event Rok Koně 2026
DESCRIPTION:Účinkující: Feng-yűn Song – zpěv\, Zuzana Dumková – kytara\, Jaroslav Kořán – bicí\, perkuse\, Petr Tichý – kontrabas\, a hosté \nVstupenky: 520 Kč\, sleva pro studenty a seniory 380 Kč\, prodej teď na www.goout.cz
URL:https://www.zuzanadumkova.cz/udalosti/hudebni-event-rok-hada-2025-copy/
LOCATION:Divadlo Kolowrat\, Ovocný trh 6\, Praha 1\, Czech Republic
CATEGORIES:hostování,koncert
ATTACH;FMTTYPE=image/jpeg:https://www.zuzanadumkova.cz/wp-content/uploads/2025/09/RokKone.jpg
END:VEVENT
BEGIN:VEVENT
DTSTART;TZID=Europe/Prague:20260205T190000
DTEND;TZID=Europe/Prague:20260205T213000
DTSTAMP:20260420T150519
CREATED:20260109T124330Z
LAST-MODIFIED:20260128T140713Z
UID:2153-1770318000-1770327000@www.zuzanadumkova.cz
SUMMARY:Z.M.O.D.(improvising obsession)
DESCRIPTION:Poetry free jazz v nečekaném multiinstrumentálním setkání zpěvačky a kytaristky Zuzany Dumkové\, saxofonisty Marcela Bárty a básníků Ondřeje Linharta a Davida Růžičky.
URL:https://www.zuzanadumkova.cz/udalosti/zmod-2/
LOCATION:Club 3. Břeh\, Nitranská 13\, Praha 3\, Praha\, 13000\, Czech Republic
CATEGORIES:hostování,poezie
END:VEVENT
BEGIN:VEVENT
DTSTART;TZID=Europe/Prague:20251107T080000
DTEND;TZID=Europe/Prague:20251107T170000
DTSTAMP:20260420T150519
CREATED:20250901T151723Z
LAST-MODIFIED:20250910T133842Z
UID:2120-1762502400-1762534800@www.zuzanadumkova.cz
SUMMARY:STAROMĚSTSKÁ RADNICE- Oslava Yellow Sisters 20 let
DESCRIPTION:Zažijte s námi jedinečný večer s hudebně-divadelním představením Cesta.
URL:https://www.zuzanadumkova.cz/udalosti/oslava-yellow-sisters-20-let/
LOCATION:Staroměstská radnice\, Karlovo náměstí 1/23\, Praha 1\, Czech Republic
CATEGORIES:hostování,koncert
ATTACH;FMTTYPE=image/png:https://www.zuzanadumkova.cz/wp-content/uploads/2025/09/yellowsisters.png
ORGANIZER;CN="Yellow Sisters z. s.":MAILTO:yellowsisters@gmail.com
END:VEVENT
BEGIN:VEVENT
DTSTART;TZID=Europe/Prague:20250612T163000
DTEND;TZID=Europe/Prague:20250612T180000
DTSTAMP:20260420T150519
CREATED:20250422T114109Z
LAST-MODIFIED:20250604T091628Z
UID:2089-1749745800-1749751200@www.zuzanadumkova.cz
SUMMARY:SOBOTKA-koncert s krasořečněním
DESCRIPTION:Koncert i čtení s Alenou Laufrovou.
URL:https://www.zuzanadumkova.cz/udalosti/sobotka-koncert/
LOCATION:Sobotka\, Sobotka\, Czech Republic
CATEGORIES:koncert,open air,poezie
ATTACH;FMTTYPE=image/jpeg:https://www.zuzanadumkova.cz/wp-content/uploads/2025/04/Sobotka2025.jpeg
END:VEVENT
BEGIN:VEVENT
DTSTART;TZID=Europe/Prague:20250415T193000
DTEND;TZID=Europe/Prague:20250415T220000
DTSTAMP:20260420T150519
CREATED:20250401T103237Z
LAST-MODIFIED:20250404T134036Z
UID:2077-1744745400-1744754400@www.zuzanadumkova.cz
SUMMARY:PRAHA-bistro Radost-koncert s Vojtěchem Procházkou
DESCRIPTION:Koncert v horním bistru legendární Radosti s hostem. \nVojtěch Procházka (1981) – klavírista\, skladatel a improvizátor\, pohybující se na poli improvizované hudby a jazzu. Hru na klavír\, skladbu a severoindickou klasickou hudbu studoval v Oslo\, Paříži a Praze. S kapelou Vertigo\, kterou spoluzaložil roku 2002\, získal již tři ocenění Zlatý Anděl. Spolupracuje s výraznými osobnostmi jako Harpreet Bansal\, Sisa Feher (KHI)\, Michaela Antalová (Mikoo)\, Luboš Soukup (Freetown Quartet)\, Monika Načeva či Lucie Páchová (Talaqpo). Skládá filmovou a divadelní hudbu (Handa Gote\, Josef Tuka\, Naivní divadlo Liberec\, Divadlo Alfa Plzeň…) a přes dvacet let vytváří doprovod k němým filmům. Mimo to je aktivní v oboru improvizované hudby (Krekso\, PIO\, ex-Bergljot) a hraje na harmonium v dechovkovém uskupení FSKC Drancy. Pedagogické činnosti se věnuje na jazzové katedře HAMU a na NYU Prague. \nUdálost na Facebooku. \nRezervace (Omezený míst k sezení)
URL:https://www.zuzanadumkova.cz/udalosti/koncert-v-radosti3/
LOCATION:Bistro Radost\, Bělehradská 120\, Praha 2\, Praha\, 12000\, Czech Republic
CATEGORIES:koncert
ATTACH;FMTTYPE=image/jpeg:https://www.zuzanadumkova.cz/wp-content/uploads/2025/04/bistro3.jpg
ORGANIZER;CN="Bistro Radost":MAILTO:ahoj@bistroradost.cz
END:VEVENT
BEGIN:VEVENT
DTSTART;TZID=Europe/Prague:20250321T190000
DTEND;TZID=Europe/Prague:20250321T220000
DTSTAMP:20260420T150519
CREATED:20240912T213218Z
LAST-MODIFIED:20250312T144410Z
UID:1937-1742583600-1742594400@www.zuzanadumkova.cz
SUMMARY:JAZZ DOCK - Zuzana Dumková Band
DESCRIPTION:https://www.jazzdock.cz/cs/koncert/zuzana-dumkova-band-8\nZuzana Dumková – zpěv\, kytary\nMarcel Bárta – saxofony\nMichal Nejtek – piano\, klávesy\nTomáš Liška – kontrabas\nDaniel Šoltis – bicí
URL:https://www.zuzanadumkova.cz/udalosti/zuzana-dumkova-band-6/
LOCATION:JazzDock\, Janáčkovo nábřeží 2\, Praha 5\, 15000\, Česká republika
CATEGORIES:koncert
ATTACH;FMTTYPE=image/jpeg:https://www.zuzanadumkova.cz/wp-content/uploads/2024/09/Jazzdock2025.jpg
END:VEVENT
BEGIN:VEVENT
DTSTART;TZID=Europe/Prague:20250319T193000
DTEND;TZID=Europe/Prague:20250319T220000
DTSTAMP:20260420T150519
CREATED:20250228T074813Z
LAST-MODIFIED:20250312T142256Z
UID:2051-1742412600-1742421600@www.zuzanadumkova.cz
SUMMARY:BISTRO RADOST - sólový koncert
DESCRIPTION:Koncert v horním bistru legendární Radosti s hosty.
URL:https://www.zuzanadumkova.cz/udalosti/koncert-v-radosti-copy/
LOCATION:Bistro Radost\, Bělehradská 120\, Praha 2\, Praha\, 12000\, Czech Republic
CATEGORIES:koncert
ATTACH;FMTTYPE=image/webp:https://www.zuzanadumkova.cz/wp-content/uploads/2025/02/Bistro-Radost1.webp
END:VEVENT
BEGIN:VEVENT
DTSTART;TZID=Europe/Prague:20250305T190000
DTEND;TZID=Europe/Prague:20250305T203000
DTSTAMP:20260420T150519
CREATED:20250227T151023Z
LAST-MODIFIED:20250228T080152Z
UID:2046-1741201200-1741206600@www.zuzanadumkova.cz
SUMMARY:ART BRUT PRAHA - Lines brut #1 – D. H. Šišláková a Zuzana Dumková
DESCRIPTION:Literární večer s hudebním doprovodem.\nDanica Hrnčiarová-Šišláková pochází z Banské Bystrice. Ještě donedávna pracovala v pražské firmě\, která se věnuje softwarové analýze. K poezii se vrátila po delší odmlce kolem roku 2015. Získala ocenění v literárních soutěžích\, publikuje ve slovenských\, českých i\nzahraničních sbornících a časopisech. V roce 2021 vydala sbírku\nPresýpacie vreckové hodiny a v roce 2023 vyšly její básně pod názvem Karma a iné veci dvojjazyčně na Ukrajině\, v překladu ukrajinského básníka Sergeje Šelkového.\nKromě průřezu její tvorbou – od starších až po současné texty –\nuslyšíme také zpěvačku a kytaristku Zuzanu Dumkovou\, kterou si autorka pozvala jako hudební doprovod.\nLiterární večer zahajuje nový cyklus literárních „čtvrtletníků“ Lines brut\, jehož dramaturgem je Ivana Beranová.
URL:https://www.zuzanadumkova.cz/udalosti/lines-brut-1-danica-hrnciarova-sislakova-a-zuzana-dumkova/
LOCATION:Art Brut Praha\, Resslova 300/6\, Praha 2\, Praha\, 12000\, Czech Republic
CATEGORIES:hostování,poezie
ATTACH;FMTTYPE=image/webp:https://www.zuzanadumkova.cz/wp-content/uploads/2025/02/Lines-brut1.webp
ORGANIZER;CN="Art Brut Praha":MAILTO:artbrut.praha@gmail.com
END:VEVENT
BEGIN:VEVENT
DTSTART;TZID=Europe/Prague:20250219T190000
DTEND;TZID=Europe/Prague:20250219T220000
DTSTAMP:20260420T150519
CREATED:20250103T165130Z
LAST-MODIFIED:20250202T202241Z
UID:2019-1739991600-1740002400@www.zuzanadumkova.cz
SUMMARY:Koncert v Radosti
DESCRIPTION:Koncert v horním bistru legendární Radosti s hosty.
URL:https://www.zuzanadumkova.cz/udalosti/koncert-v-radosti/
LOCATION:Bistro Radost\, Bělehradská 120\, Praha 2\, Praha\, 12000\, Czech Republic
CATEGORIES:koncert
ATTACH;FMTTYPE=image/webp:https://www.zuzanadumkova.cz/wp-content/uploads/2025/01/bistroradost-logo-v2.webp
END:VEVENT
BEGIN:VEVENT
DTSTART;TZID=Europe/Prague:20250201T190000
DTEND;TZID=Europe/Prague:20250201T220000
DTSTAMP:20260420T150519
CREATED:20240912T214337Z
LAST-MODIFIED:20250123T143229Z
UID:1940-1738436400-1738447200@www.zuzanadumkova.cz
SUMMARY:Hudební event Rok Hada 2025
DESCRIPTION:Účinkující: Feng-yűn Song – zpěv\, Zuzana Dumková – kytara\, Jaroslav Kořán – bicí\, perkuse\, Petr Tichý – kontrabas\, a hosté \nVstupenky: 520 Kč\, sleva pro studenty a seniory 380 Kč\, prodej teď na www.goout.cz
URL:https://www.zuzanadumkova.cz/udalosti/hudebni-event-rok-hada-2025/
LOCATION:Divadlo Kolowrat\, Ovocný trh 6\, Praha 1\, Czech Republic
CATEGORIES:hostování,koncert
ATTACH;FMTTYPE=image/webp:https://www.zuzanadumkova.cz/wp-content/uploads/2024/09/RokHada.webp
END:VEVENT
BEGIN:VEVENT
DTSTART;TZID=Europe/Prague:20241022T190000
DTEND;TZID=Europe/Prague:20241022T230000
DTSTAMP:20260420T150519
CREATED:20240813T090139Z
LAST-MODIFIED:20240906T070743Z
UID:1906-1729623600-1729638000@www.zuzanadumkova.cz
SUMMARY:20 let Amplion Records a Limbo + křest CD ft. František Kop Trio & Zuzana Dumková Band
DESCRIPTION:Hudební vydavatelství založila v roce 2003 Lucie Kukulová z potřeby zachytit soudobou českou autorskou činnost v oblasti jazzu a podobných žánrů a umožnit profesionální vydání kvalitní nahrávky zejména začínajícím hudebníkům. Důraz je kladen také na speciální originální sound. Za většinou projektů vydavatelství Amplión stojí hudební producent Alexej Charvát\, skladatel\, pedagog\, zkušený jazzový hudebník a šaman mixážních pultů studia Svengali\, který též vydavatelství převzal v r. 2014.
URL:https://www.zuzanadumkova.cz/udalosti/20-let-amplion-records-a-limbo-krest-cd-ft-frantisek-kop-trio-zuzana-dumkova-band/
LOCATION:JazzDock\, Janáčkovo nábřeží 2\, Praha 5\, 15000\, Česká republika
CATEGORIES:hostování,koncert
ATTACH;FMTTYPE=image/webp:https://www.zuzanadumkova.cz/wp-content/uploads/2024/08/20letAmplion.webp
END:VEVENT
BEGIN:VEVENT
DTSTART;TZID=Europe/Prague:20240521T180000
DTEND;TZID=Europe/Prague:20240521T193000
DTSTAMP:20260420T150519
CREATED:20240520T144131Z
LAST-MODIFIED:20240521T110838Z
UID:1885-1716314400-1716319800@www.zuzanadumkova.cz
SUMMARY:Písně voňavé\, křehké
DESCRIPTION:Milí přátelé\,\nv úterý 21. května bude se v Café Husovka (Husova 9 na Starém Městě pražském) vůbec poprvé za šestnáct sezón našeho stolování zpívat a hrát čínsky!. VOŇAVÉ A KŘEHKÉ PÍSNĚ!\nZačátek jako obvykle v 18 hodin\, rezervace jako obvykle na této mailové adrese – rezervace: premysl.rut@gmail.com\nS Markétou Potužákovou a Přemyslem Rutem se na Vás těšíZuzana Dumková – kytara\, Jaroslav Kořán – perkuse\, buben\, Petr Tichý – kontrabas a Feng-yűn Song – zpěv.\nUdálost na Facebooku.
URL:https://www.zuzanadumkova.cz/udalosti/pisne-vonave-krehke/
LOCATION:Café Husovka\, Husova 9\, Praha 1\, Praha\, 110 00\, Česká republika
CATEGORIES:hostování
ATTACH;FMTTYPE=image/webp:https://www.zuzanadumkova.cz/wp-content/uploads/2024/05/Husovka.webp
END:VEVENT
BEGIN:VEVENT
DTSTART;TZID=Europe/Prague:20240130T200000
DTEND;TZID=Europe/Prague:20240130T220000
DTSTAMP:20260420T150519
CREATED:20240116T093340Z
LAST-MODIFIED:20240126T101406Z
UID:1837-1706644800-1706652000@www.zuzanadumkova.cz
SUMMARY:Literárně-hudební kabaret na (A)void café
DESCRIPTION:XVIII. Podpalubní kabaret tentokrát v (A)void Café cca pod Tančícím domem.\n„V kobce na náplavce barman přikládá\, pod Tančičem je skvělá zábava…“\nS nejlepšími kousky kabaretní sezóny 2024 vystoupí tito umělečtí gentlemani:\nZuzana Dumková s dynamitnickou kytarou + Jan Lidové noviny Nejedlý + Lapač dechu Ondřej Linhart + Slovní balantér Kamil Princ + Lapač snů Viki Shock + Jim Nasrat + Štěpán Mikulenka + Šíleně smutná Delfína + (Ne)skutečný umělec + Radek F1 + Mrtví tatínci + Čtvrtá a pátá premiéra písně Všichni jsou už v Essenu\nV devět proběhne obvyklé neobvyklé nápojové překvapení s příběhem!\nVečerem provázejí a hosty zpovídají dva skvělí vyvaděči pan Josef Straka v hrsti a pan Bohuslav Vaněk-Úvalský v plyši. A možná připluje i manuální ulož.to…\nVstupné jest dobrovolné\, kontroluje BVÚ.\nTěšíme se na Vás!\n—\nPOZOR! Kabaret se v lednu koná od 20.00 v (A)void Café zhruba pod Tančícím domem poblíž Jiráskova mostu.\nKdo to zvrtá a dorazí na loď\, nechť pokračuje po nábřeží a po proudu Vltavy a dojde tam za 6 minut. Kdo chce poslouchat racky\, ať zůstane na lodi!
URL:https://www.zuzanadumkova.cz/udalosti/literarne-hudebni-kabaret-na-avoidu/
LOCATION:(A)VOID CAFÉ\, Náplavka u Jiráskova mostu\, Praha\, 15000
CATEGORIES:hostování,poezie
ATTACH;FMTTYPE=image/webp:https://www.zuzanadumkova.cz/wp-content/uploads/2024/01/Avoid.webp
END:VEVENT
BEGIN:VEVENT
DTSTART;TZID=Europe/Prague:20231222T190000
DTEND;TZID=Europe/Prague:20231222T220000
DTSTAMP:20260420T150519
CREATED:20231120T103903Z
LAST-MODIFIED:20231220T074845Z
UID:1811-1703271600-1703282400@www.zuzanadumkova.cz
SUMMARY:Soften disHarmony a Zuzana Dumková v Pivovaru Berounský medvěd
DESCRIPTION:Pokud nemáte ještě zabaleno a napečeno\, tak už si s tím nelámejte hlavu a přijďte se uklidnit poslechem autorské muziky!!! 😀 \nProgram:\n19:00 – multižánrová zpěvačka\, kytaristka a skladatelka Zuzana Dumková\n20:30 – crossoveroví Soften disharmony \nVstupné 190 Kč
URL:https://www.zuzanadumkova.cz/udalosti/soften-disharmony-a-zuzana-dumkova-v-pivovaru-berounsky-medved/
LOCATION:Pivovar Berounský medvěd\, U cukrovaru 135\, Beroun 1\, 26601\, Česká republika
CATEGORIES:hostování,koncert
ATTACH;FMTTYPE=image/webp:https://www.zuzanadumkova.cz/wp-content/uploads/2023/11/Obrazek-WhatsApp-2023-12-19-v-22.34.18_204810bc.webp
END:VEVENT
BEGIN:VEVENT
DTSTART;TZID=Europe/Prague:20231215T190000
DTEND;TZID=Europe/Prague:20231215T210000
DTSTAMP:20260420T150519
CREATED:20231117T173813Z
LAST-MODIFIED:20231117T173813Z
UID:1803-1702666800-1702674000@www.zuzanadumkova.cz
SUMMARY:Vánoční Spectatulum
DESCRIPTION:Program a účinkující:\nčást I.\nBiblické příběhy\nčást II.\nDívka Agar – taneční koncept\nPetr Opavský\, Alena Dittrichová\nčást III.\nVánoční středověké a barokní písně
URL:https://www.zuzanadumkova.cz/udalosti/vanocni-spectatulum/
LOCATION:Kostel Jana Křtitele Na Prádle\, Říční 6\, Praha 1\, Praha\, Česká republika
CATEGORIES:divadlo,hostování
ATTACH;FMTTYPE=image/jpeg:https://www.zuzanadumkova.cz/wp-content/uploads/2023/11/400615345_6772504432828982_7759739412120874916_n.jpg
END:VEVENT
BEGIN:VEVENT
DTSTART;TZID=Europe/Prague:20230615T180000
DTEND;TZID=Europe/Prague:20230615T233000
DTSTAMP:20260420T150519
CREATED:20230523T142505Z
LAST-MODIFIED:20230524T101525Z
UID:1724-1686852000-1686871800@www.zuzanadumkova.cz
SUMMARY:Hanspaulka Fest 2023
DESCRIPTION:Přijďte oslavit začátek léta\, radost ze života\, svobodu!\nJiž tradiční Hanspaulka Fest Pavla Berkoviče vám letos nabídne vystoupení kapel i sólo umělců a spoustu legrace.\nZahrají vám:\nPrincezny\nVoříšek aka MC Jupiter\nZuzana Dumková\nNepřekračuj spícího vlka\nKrycí jméno\nThe Muslim Jew\, The Ugly & The Drummer\nMáte málo věcí\nOndrus Double\nPropop\nThe Group
URL:https://www.zuzanadumkova.cz/udalosti/hanspaulka-fest/
LOCATION:U Rafa\, Soborská 4\, Praha 6\, Praha\, 16000\, Česká republika
CATEGORIES:hostování
ATTACH;FMTTYPE=image/jpeg:https://www.zuzanadumkova.cz/wp-content/uploads/2023/05/Hanspaulka-fest2023.jpg
END:VEVENT
BEGIN:VEVENT
DTSTART;TZID=Europe/Prague:20230324T200000
DTEND;TZID=Europe/Prague:20230324T230000
DTSTAMP:20260420T150519
CREATED:20230209T145641Z
LAST-MODIFIED:20230312T213504Z
UID:1635-1679688000-1679698800@www.zuzanadumkova.cz
SUMMARY:Tom Vybíral trio + guests
DESCRIPTION:https://fb.me/e/47Y0LKUpT \nKlavírní trio\, kde klavírista občas střídá svůj nástroj s vibrafonem\, vzniklo setkáním tří vynikajících hudebníků\, kteří ihned rozpoznali\, že mají identické hudební cítění a preferují podobný styl jazzové interpretace. Proto se rozhodli založit seskupení\, které se bude věnovat vlastní tvorbě všech členů tria a také hraní jazzových standardů v zajímavých úpravách. Tom Vybíral Trio se představilo i v Německu na festivalu v Augsburgu\, kde s nimi vystoupil jako host vynikající a světoznámý hráč na vibrafon Wolfgang Lackerschmid.
URL:https://www.zuzanadumkova.cz/udalosti/tom-vybiral-trio-guests/
LOCATION:U Staré paní Jazz&Cocktail Club\, Michalská 9\, Praha 1\, Praha\, 11000
CATEGORIES:hostování,koncert
ATTACH;FMTTYPE=image/jpeg:https://www.zuzanadumkova.cz/wp-content/uploads/2018/04/Ustarepani.jpg
END:VEVENT
BEGIN:VEVENT
DTSTART;TZID=Europe/Prague:20221129T193000
DTEND;TZID=Europe/Prague:20221129T220000
DTSTAMP:20260420T150519
CREATED:20221114T090117Z
LAST-MODIFIED:20221014T080253Z
UID:1570-1669750200-1669759200@www.zuzanadumkova.cz
SUMMARY:Tom Vybíral trio & Zuzana Dumková
DESCRIPTION:
URL:https://www.zuzanadumkova.cz/udalosti/tom-vybiral-trio-zuzana-dumkova/
LOCATION:KC Labuť Říčany\, 17.listopadu 214\, Říčany\, Praha\, 251 01\, Česká republika
CATEGORIES:koncert
ATTACH;FMTTYPE=image/jpeg:https://www.zuzanadumkova.cz/wp-content/uploads/2022/10/VybiralTrioRicany.jpg
ORGANIZER;CN="KC Labu%C5%A5 %C5%98%C3%AD%C4%8Dany":MAILTO:info@kclabut.cz
END:VEVENT
BEGIN:VEVENT
DTSTART;TZID=Europe/Prague:20221021T200000
DTEND;TZID=Europe/Prague:20221021T220000
DTSTAMP:20260420T150519
CREATED:20220422T082855Z
LAST-MODIFIED:20221003T110845Z
UID:1466-1666382400-1666389600@www.zuzanadumkova.cz
SUMMARY:Kulturní fara - Brno
DESCRIPTION:Zuzana Dumková a Michal Nejtek a Martina Trchová v kulturně komunitním centru v Obřanech – Kafara. \n 
URL:https://www.zuzanadumkova.cz/udalosti/kulturni-fara-brno/
LOCATION:Kafara – Brno\, Fryčajova 78/16\, Brno\, Česká republika
CATEGORIES:koncert
ATTACH;FMTTYPE=image/jpeg:https://www.zuzanadumkova.cz/wp-content/uploads/2022/04/kafara22.jpg
ORGANIZER;CN="Kulturn%C3%AD dru%C5%BEstvo Kafara":MAILTO:info@kafara.cz
END:VEVENT
BEGIN:VEVENT
DTSTART;TZID=Europe/Prague:20220603T194500
DTEND;TZID=Europe/Prague:20220603T213000
DTSTAMP:20260420T150519
CREATED:20170409T184725Z
LAST-MODIFIED:20220516T075648Z
UID:577-1654285500-1654291800@www.zuzanadumkova.cz
SUMMARY:Komorní koncert
DESCRIPTION:Koncert k 10-letému výročí Muzea papírových modelů Police nad Metují.
URL:https://www.zuzanadumkova.cz/udalosti/komorni-koncert/
LOCATION:Muzeum papírových modelů Police nad Metují\, Tyršova 341\, Police nad Metují\,  Královéhradecký\, 54954\, Česká republika
CATEGORIES:koncert
ATTACH;FMTTYPE=image/jpeg:https://www.zuzanadumkova.cz/wp-content/uploads/2017/04/police.jpg
ORGANIZER;CN="Muzeum pap%C3%ADrov%C3%BDch model%C5%AF Police nad Metuj%C3%AD":MAILTO:info.mpmpm@seznam.cz
END:VEVENT
BEGIN:VEVENT
DTSTART;TZID=Europe/Prague:20211030T180000
DTEND;TZID=Europe/Prague:20211030T200000
DTSTAMP:20260420T150519
CREATED:20211012T143107Z
LAST-MODIFIED:20211027T111301Z
UID:1401-1635616800-1635624000@www.zuzanadumkova.cz
SUMMARY:Koncert ve Veslařském klubu Smíchov
DESCRIPTION:Komorní koncert s dobrým vínem a nad řekou….
URL:https://www.zuzanadumkova.cz/udalosti/koncert-ve-veslarskem-klubu-smichov/
LOCATION:Veslařský klub Smíchov\, Strakonická 1135/2a\, Praha\, Praha 5\, 15000\, Česká republika
CATEGORIES:koncert
ATTACH;FMTTYPE=image/jpeg:https://www.zuzanadumkova.cz/wp-content/uploads/2021/10/Koncert-veslo.jpeg
ORGANIZER;CN="Vin%C3%A1rna u Honz%C3%ADka":MAILTO:vinarnauhonzika@centrum.cz
END:VEVENT
BEGIN:VEVENT
DTSTART;TZID=Europe/Prague:20211006T193000
DTEND;TZID=Europe/Prague:20211006T223000
DTSTAMP:20260420T150519
CREATED:20210916T133134Z
LAST-MODIFIED:20210916T142251Z
UID:1246-1633548600-1633559400@www.zuzanadumkova.cz
SUMMARY:KŘEST DEBUTOVÉ DESKY JANY KOZUBKOVÉ - TOULANÍ
DESCRIPTION:Křest debutové desky TouLaní (vydané v roce 2021 u vydavatelství Galén) se koná v kulturním centru Kaštan\, ve středu 6.10. od 19:30.\nJako hosté vystoupí Zuzana Dumková\, BioMasha a Stanislav Abrahám.
URL:https://www.zuzanadumkova.cz/udalosti/krest-debutove-desky-jany-kozubkove-toulani/
LOCATION:KC Kaštan\, Bělohorská 201/150\, Praha 6\, Praha\, 16000\, Česká republika
CATEGORIES:koncert
ATTACH;FMTTYPE=image/jpeg:https://www.zuzanadumkova.cz/wp-content/uploads/2021/09/toulani-1.jpg
ORGANIZER;CN="KC Ka%C5%A1tan-Unijazz":MAILTO:kastan@kastan.cz
END:VEVENT
BEGIN:VEVENT
DTSTART;TZID=Europe/Prague:20211002T150000
DTEND;TZID=Europe/Prague:20211002T210000
DTSTAMP:20260420T150519
CREATED:20201005T111959Z
LAST-MODIFIED:20210916T142329Z
UID:1063-1633186800-1633208400@www.zuzanadumkova.cz
SUMMARY:Cibulka Open
DESCRIPTION:Nadace rodiny Vlčkových otevírá usedlost Cibulka pro všechny\, kteří ji chtějí navštívit a dozvědět se\, co se tam za poslední měsíce změnilo a co se plánuje. Ovšem hlavně si můžete přijít užít parádní koncert\, ale i divadlo:\nNa akci vystoupí:\nOndřej Ruml a Matěj Benko Quartet\nZuzana Dumková\nS.V.A. Trio\nThomas & Ruhller\nXavier Baumaxa & Jazz Punk Trio\nYannick Tevi a skupina Vanua2\nPřevážnou část programu pro vás sestavil Pavel “Bady” Zbořil.\nObčerstvení zajistí foodtruck Restaurace U Tenisu a k tomu navíc Klára Trojanová uvaří domácí cibulačku.\nA samozřejmě dorazí a rádi si s vámi popovídají majitelé usedlosti a zakladatelé Nadace rodiny Vlčkových\, Katarína a Ondřej Vlčkovi.\nVstupné je dobrovolné.\n\nPokud plánujete dorazit\, budeme rádi\, když se předem registrujete také přes tento link: https://cutt.ly/3WXzdf8.\n\n\n 
URL:https://www.zuzanadumkova.cz/udalosti/predstaveni-babicky-9/
LOCATION:Usedlost Cibulka\, U Cibulky 118/1\, Praha 5\, Praha\, 15000\, Česká republika
CATEGORIES:koncert,open air
ATTACH;FMTTYPE=image/jpeg:https://www.zuzanadumkova.cz/wp-content/uploads/2020/10/242013573_193890442811895_4837355486124998302_n.jpg
END:VEVENT
BEGIN:VEVENT
DTSTART;TZID=Europe/Prague:20190916T200000
DTEND;TZID=Europe/Prague:20190916T220000
DTSTAMP:20260420T150519
CREATED:20240607T110828Z
LAST-MODIFIED:20240607T112324Z
UID:1893-1568664000-1568671200@www.zuzanadumkova.cz
SUMMARY:Osamělí písničkáři
DESCRIPTION:Podzimní sezónu v klubu Kaštan v Praze 6 na Bělohorské ulici 150 zahájíme v pondělí 16.9. O večer se podělí muž krásného hlasu i písní Michal Bystrov\, stále lepší a lepší písničkář ve dvou osobách Caine-mi a z širých nadžánrových plání přicházející Zuzana Dumková. Začínáme jako obvykle ve 20:00.
URL:https://www.zuzanadumkova.cz/udalosti/osameli-pisnickari/
LOCATION:KC Kaštan\, Bělohorská 201/150\, Praha 6\, Praha\, 16000\, Česká republika
CATEGORIES:hostování,koncert
ATTACH;FMTTYPE=image/jpeg:https://www.zuzanadumkova.cz/wp-content/uploads/2019/08/67850011_2419299708108832_5928156519001489408_o.jpg
END:VEVENT
BEGIN:VEVENT
DTSTART;TZID=Europe/Prague:20190801T200000
DTEND;TZID=Europe/Prague:20190801T220000
DTSTAMP:20260420T150519
CREATED:20240607T111312Z
LAST-MODIFIED:20240607T111521Z
UID:1895-1564689600-1564696800@www.zuzanadumkova.cz
SUMMARY:Léto písničkářů v Činoherní kavárně
DESCRIPTION:
URL:https://www.zuzanadumkova.cz/udalosti/leto-pisnickaru-v-cinoherni-kavarne/
LOCATION:Činoherní kavárna\, Ve Smečkách 26\, Praha 1\, Česká republika
CATEGORIES:hostování,koncert
ATTACH;FMTTYPE=image/webp:https://www.zuzanadumkova.cz/wp-content/uploads/2024/06/plakat_pisnickari_v_ck_prac.webp
END:VEVENT
BEGIN:VEVENT
DTSTART;TZID=Europe/Prague:20140426T190000
DTEND;TZID=Europe/Prague:20140426T210000
DTSTAMP:20260420T150519
CREATED:20151210T125632Z
LAST-MODIFIED:20240607T113815Z
UID:123-1398538800-1398546000@www.zuzanadumkova.cz
SUMMARY:Zuzana Dumková Trio feat. Marcel Bárta\, Andrés Ibarburu (CZ\, UY)
DESCRIPTION:Zuzana Dumková a její host z Uruguaye\n\nUvnitřněte se v abstraktním světě hudebnice Zuzany Dumkové pověstné svým osobitým – »najazzlým« zpěvem a speciálně přeladěnou kytarou na kterou se doprovází jedinečným způsobem (zpěv\, elektrická a akustická kytara\, line 6). \nZuzana Dumková si k provedení svých originálních kompozic také přizve jako hosta baskytaristu a violoncellistu Andrése Ibarburu (Uruguay).
URL:https://www.zuzanadumkova.cz/udalosti/zuzana-dumkova-trio-feat-marcel-barta-andres-ibarburu-cz-uy/
LOCATION:Rybanaruby\, Mánesova 87\, Praha
CATEGORIES:koncert
ATTACH;FMTTYPE=image/webp:https://www.zuzanadumkova.cz/wp-content/uploads/2015/12/Ryba4-2014.webp
END:VEVENT
END:VCALENDAR